BEGIN:VCALENDAR
VERSION:2.0
PRODID:-//Marina Linder - ECPv6.15.18//NONSGML v1.0//EN
CALSCALE:GREGORIAN
METHOD:PUBLISH
X-ORIGINAL-URL:https://marinalinder.at
X-WR-CALDESC:Veranstaltungen für Marina Linder
REFRESH-INTERVAL;VALUE=DURATION:PT1H
X-Robots-Tag:noindex
X-PUBLISHED-TTL:PT1H
BEGIN:VTIMEZONE
TZID:Europe/Vienna
BEGIN:DAYLIGHT
TZOFFSETFROM:+0100
TZOFFSETTO:+0200
TZNAME:CEST
DTSTART:20240331T010000
END:DAYLIGHT
BEGIN:STANDARD
TZOFFSETFROM:+0200
TZOFFSETTO:+0100
TZNAME:CET
DTSTART:20241027T010000
END:STANDARD
BEGIN:DAYLIGHT
TZOFFSETFROM:+0100
TZOFFSETTO:+0200
TZNAME:CEST
DTSTART:20250330T010000
END:DAYLIGHT
BEGIN:STANDARD
TZOFFSETFROM:+0200
TZOFFSETTO:+0100
TZNAME:CET
DTSTART:20251026T010000
END:STANDARD
BEGIN:DAYLIGHT
TZOFFSETFROM:+0100
TZOFFSETTO:+0200
TZNAME:CEST
DTSTART:20260329T010000
END:DAYLIGHT
BEGIN:STANDARD
TZOFFSETFROM:+0200
TZOFFSETTO:+0100
TZNAME:CET
DTSTART:20261025T010000
END:STANDARD
END:VTIMEZONE
BEGIN:VEVENT
DTSTART;TZID=Europe/Vienna:20251028T193000
DTEND;TZID=Europe/Vienna:20251028T213000
DTSTAMP:20260420T153235
CREATED:20250827T110320Z
LAST-MODIFIED:20250827T113752Z
UID:10000106-1761679800-1761687000@marinalinder.at
SUMMARY:Rhythmus. Fokus. Verbindung. Freude.
DESCRIPTION:Stell dir vor: Ein Kreis von Menschen. Jeder hält einen Ball oder sogar zwei.\nEin ruhiger Rhythmus trägt uns. Der Ball wird zur Brücke zwischen Hirnhälften – und zwischen uns.\nDein Blick folgt dem Ball\, der Hand\, du hörst den rhythmischen Klang. Ganz ohne Worte entsteht Fokus\, Leichtigkeit\, Staunen. \nWir werfen\, fangen\, sind aufmerksam. Und während der Körper sich bewegt\, passiert etwas in dir: Konzentration wird klarer. Bewegung fließt. Lernen wird leicht. \nEgal ob jung oder alt\, sportlich oder Couchpotato\, verspielt oder eher streng –\ndieses Angebot ist für dich. \nDu brauchst keine Vorkenntnisse. Nur dich selbst und die Bereitschaft\, dich überraschen zu lassen. \nWenn etwas nicht gleich gelingt\, zeigt sich:\nLernen ist kein gerader Weg.\nDoch genau dort\, wo es hakt\, entstehen neue Verbindungen.\nZwischen deinen Gedanken. Zwischen dir und deinem Körper.\nUnd manchmal auch zwischen dir und deiner Freude am Leben. \nLernen ist leicht und lebendig.\nMach mit. Und bring dein inneres Kind mit – es wird sich freuen. \nAnmeldung und weitere Informationen:\nMartina Gächter – buero@martinagaechter.com +41 78 232 1563
URL:https://marinalinder.at/termin/rhythmusfokus-2/
LOCATION:Walzenhausen\, Walzenhausen\, Switzerland
CATEGORIES:Extern
ATTACH;FMTTYPE=image/jpeg:https://marinalinder.at/wp-content/uploads/2025/08/Baelle.jpg
ORGANIZER;CN="Marina Linder":MAILTO:mail@marinalinder.at
END:VEVENT
BEGIN:VEVENT
DTSTART;TZID=Europe/Vienna:20250826T193000
DTEND;TZID=Europe/Vienna:20250826T210000
DTSTAMP:20260420T153235
CREATED:20250807T164703Z
LAST-MODIFIED:20250807T165027Z
UID:10000107-1756236600-1756242000@marinalinder.at
SUMMARY:Rhythmus. Fokus. Verbindung. Freude.
DESCRIPTION:Stell dir vor: Ein Kreis von Menschen. Jeder hält einen Ball oder sogar zwei.\nEin ruhiger Rhythmus trägt uns. Der Ball wird zur Brücke zwischen Hirnhälften – und zwischen uns.\nDein Blick folgt dem Ball\, der Hand\, du hörst den rhythmischen Klang. Ganz ohne Worte entsteht Fokus\, Leichtigkeit\, Staunen. \nWir werfen\, fangen\, sind aufmerksam. Und während der Körper sich bewegt\, passiert etwas in dir: Konzentration wird klarer. Bewegung fließt. Lernen wird leicht. \nEgal ob jung oder alt\, sportlich oder Coachpotato\, verspielt oder eher streng –\ndieses Angebot ist für dich. \nDu brauchst keine Vorkenntnisse. Nur dich selbst und die Bereitschaft\, dich überraschen zu lassen. \nWenn etwas nicht gleich gelingt\, zeigt sich:\nLernen ist kein gerader Weg.\nDoch genau dort\, wo es hakt\, entstehen neue Verbindungen.\nZwischen deinen Gedanken. Zwischen dir und deinem Körper.\nUnd manchmal auch zwischen dir und deiner Freude am Leben. \nLernen ist leicht und lebendig.\nMach mit. Und bring dein inneres Kind mit – es wird sich freuen. \nAnmeldung und weitere Informationen:\nMartina Gächter – buero@martinagaechter.com +41 78 232 1563
URL:https://marinalinder.at/termin/rhythmusfokus/
LOCATION:Walzenhausen\, Walzenhausen\, Switzerland
CATEGORIES:Intern
ATTACH;FMTTYPE=image/jpeg:https://marinalinder.at/wp-content/uploads/2025/08/Baelle.jpg
ORGANIZER;CN="Marina Linder":MAILTO:mail@marinalinder.at
END:VEVENT
BEGIN:VEVENT
DTSTART;TZID=Europe/Vienna:20250708T190000
DTEND;TZID=Europe/Vienna:20250708T210000
DTSTAMP:20260420T153235
CREATED:20250528T173653Z
LAST-MODIFIED:20250528T173653Z
UID:10000096-1752001200-1752008400@marinalinder.at
SUMMARY:Empathische Kommunikation erleben
DESCRIPTION:Du möchtest die Gewaltfreie Kommunikation (GFK) nicht nur verstehen\, sondern auch praktisch anwenden? Gemeinsam erkunden wir die Grundlagen der GFK und setzen sie direkt in die Praxis um. Egal\, ob du neu in der GFK bist oder bereits Erfahrungen mitbringst – hier findest du Raum zum Lernen\, Ausprobieren und Austauschen.​\nWas dich erwartet:\n\n\nAnkommen & Einstiegsrunde: Wie bin ich jetzt da? Was ist in mir lebendig?\n\n\nImpulse zur GFK: Kurze Einführung oder Auffrischung der Grundzüge.\n\n\nPraktische Übungen: Rollenspiele\, Empathie-Übungen und mehr.\n\n\nFallbeispiele: Gemeinsames Bearbeiten von mitgebrachten Situationen.​\n\n\nUnsere Abende sind geprägt von Offenheit\, Empathie und der Freude am gemeinsamen Lernen.​\nAnmeldung:\nBitte melde dich vorab an\, damit ich besser planen kann. Schreibe eine E-Mail an mail@marinalinder.at Ich freu mich auf dich und einen bereichernden Abend voller Empathie und Verbindung!​\nVoraussetzung: Experimentierfreude\nPreis: 50 Euro\nEin wichtiger Hinweis zur Teilnahme\nMeine Übungsabende sind Räume für Selbsterforschung\, aufrichtigen Ausdruck und tiefe Verbindung. Sie ersetzen keine Therapie – und doch können sie etwas in dir bewegen.\nDu bist eingeladen\, mit allem da zu sein\, was in dir lebendig ist. Und gleichzeitig gilt:\nDu trägst die Verantwortung für dich selbst.\nMit deiner Anmeldung erklärst du dich bereit\, eigenverantwortlich mit dem umzugehen\, was sich in dir zeigt – in deinem Tempo\, in deiner Tiefe.
URL:https://marinalinder.at/termin/empathische-kommunikation-erleben/
LOCATION:Walzenhausen\, Walzenhausen\, Switzerland
CATEGORIES:Intern
ATTACH;FMTTYPE=image/png:https://marinalinder.at/wp-content/uploads/2025/04/Wolf-und-Giraffe.png
ORGANIZER;CN="Marina Linder":MAILTO:mail@marinalinder.at
END:VEVENT
BEGIN:VEVENT
DTSTART;TZID=Europe/Vienna:20250603T190000
DTEND;TZID=Europe/Vienna:20250603T210000
DTSTAMP:20260420T153235
CREATED:20250414T102004Z
LAST-MODIFIED:20250423T170706Z
UID:10000081-1748977200-1748984400@marinalinder.at
SUMMARY:Empathische Kommunikation erleben
DESCRIPTION:Du möchtest die Gewaltfreie Kommunikation (GFK) nicht nur verstehen\, sondern auch praktisch anwenden? Gemeinsam erkunden wir die Grundlagen der GFK und setzen sie direkt in die Praxis um. Egal\, ob du neu in der GFK bist oder bereits Erfahrungen mitbringst – hier findest du Raum zum Lernen\, Ausprobieren und Austauschen.​\nWas dich erwartet:\n\n\nAnkommen & Einstiegsrunde: Wie bin ich jetzt da? Was ist in mir lebendig?\n\n\nImpulse zur GFK: Kurze Einführung oder Auffrischung der Grundzüge.\n\n\nPraktische Übungen: Rollenspiele\, Empathie-Übungen und mehr.\n\n\nFallbeispiele: Gemeinsames Bearbeiten von mitgebrachten Situationen.​\n\n\nUnsere Abende sind geprägt von Offenheit\, Empathie und der Freude am gemeinsamen Lernen.​\nAnmeldung:\nBitte melde dich vorab an\, damit ich besser planen kann. Schreibe eine E-Mail an mail@marinalinder.at Ich freu mich auf dich und einen bereichernden Abend voller Empathie und Verbindung!​\nVoraussetzung: Experimentierfreude\nPreis: 50 Euro\nEin wichtiger Hinweis zur Teilnahme\nMeine Übungsabende sind Räume für Selbsterforschung\, aufrichtigen Ausdruck und tiefe Verbindung. Sie ersetzen keine Therapie – und doch können sie etwas in dir bewegen.\nDu bist eingeladen\, mit allem da zu sein\, was in dir lebendig ist. Und gleichzeitig gilt:\nDu trägst die Verantwortung für dich selbst.\nMit deiner Anmeldung erklärst du dich bereit\, eigenverantwortlich mit dem umzugehen\, was sich in dir zeigt – in deinem Tempo\, in deiner Tiefe.
URL:https://marinalinder.at/termin/gfk-uebungsabend/
LOCATION:Walzenhausen\, Walzenhausen\, Switzerland
CATEGORIES:Intern
ATTACH;FMTTYPE=image/png:https://marinalinder.at/wp-content/uploads/2025/04/Wolf-und-Giraffe.png
ORGANIZER;CN="Marina Linder":MAILTO:mail@marinalinder.at
END:VEVENT
END:VCALENDAR